BEGIN:VCALENDAR
VERSION:2.0
PRODID:-// - ECPv6.15.20//NONSGML v1.0//EN
CALSCALE:GREGORIAN
METHOD:PUBLISH
X-ORIGINAL-URL:https://ttmorigny.fr
X-WR-CALDESC:Évènements pour 
REFRESH-INTERVAL;VALUE=DURATION:PT1H
X-Robots-Tag:noindex
X-PUBLISHED-TTL:PT1H
BEGIN:VTIMEZONE
TZID:UTC
BEGIN:STANDARD
TZOFFSETFROM:+0000
TZOFFSETTO:+0000
TZNAME:UTC
DTSTART:20240101T000000
END:STANDARD
END:VTIMEZONE
BEGIN:VEVENT
DTSTART;TZID=UTC:20250207T210000
DTEND;TZID=UTC:20250207T230000
DTSTAMP:20260419T161314
CREATED:20241219T055724Z
LAST-MODIFIED:20241219T055954Z
UID:3336-1738962000-1738969200@ttmorigny.fr
SUMMARY:PROMOTION
DESCRIPTION:Accueil de SERMAISE (reprogrammation du match prévu le 15 décembre 2024).
URL:https://ttmorigny.fr/event/promotion-3/
CATEGORIES:B PROMOTION CALENDRIER
END:VEVENT
END:VCALENDAR