BEGIN:VCALENDAR
VERSION:2.0
PRODID:-// - ECPv6.15.20//NONSGML v1.0//EN
CALSCALE:GREGORIAN
METHOD:PUBLISH
X-ORIGINAL-URL:https://ttmorigny.fr
X-WR-CALDESC:Évènements pour 
REFRESH-INTERVAL;VALUE=DURATION:PT1H
X-Robots-Tag:noindex
X-PUBLISHED-TTL:PT1H
BEGIN:VTIMEZONE
TZID:UTC
BEGIN:STANDARD
TZOFFSETFROM:+0000
TZOFFSETTO:+0000
TZNAME:UTC
DTSTART:20240101T000000
END:STANDARD
END:VTIMEZONE
BEGIN:VEVENT
DTSTART;TZID=UTC:20250314T210000
DTEND;TZID=UTC:20250314T230000
DTSTAMP:20260421T172307
CREATED:20250312T061035Z
LAST-MODIFIED:20250312T061036Z
UID:6116-1741986000-1741993200@ttmorigny.fr
SUMMARY:Coupe SYTNIK
DESCRIPTION:LE QUART DE FINALE A NE PAS MANQUER : Morigny 2 (Daniel & Justin) contre Morigny 4 (Max & Sylvain)
URL:https://ttmorigny.fr/event/coupe-sytnik-6/
CATEGORIES:COUPES DÉPARTEMENTALES
END:VEVENT
END:VCALENDAR